BEGIN:VCALENDAR
VERSION:2.0
PRODID:-//Body Therapy Education - ECPv6.15.13//NONSGML v1.0//EN
CALSCALE:GREGORIAN
METHOD:PUBLISH
X-ORIGINAL-URL:https://www.bodytherapyeducation.com
X-WR-CALDESC:Events for Body Therapy Education
REFRESH-INTERVAL;VALUE=DURATION:PT1H
X-Robots-Tag:noindex
X-PUBLISHED-TTL:PT1H
BEGIN:VTIMEZONE
TZID:UTC
BEGIN:STANDARD
TZOFFSETFROM:+0000
TZOFFSETTO:+0000
TZNAME:UTC
DTSTART:20250101T000000
END:STANDARD
END:VTIMEZONE
BEGIN:VEVENT
DTSTART;TZID=UTC:20260716T090000
DTEND;TZID=UTC:20260719T180000
DTSTAMP:20260423T122326
CREATED:20260113T220333Z
LAST-MODIFIED:20260124T182050Z
UID:26499-1784192400-1784484000@www.bodytherapyeducation.com
SUMMARY:Lakewood\, CO Pre- and Perinatal Massage Therapy Workshop - July 16-19\, 2026
DESCRIPTION:
URL:https://www.bodytherapyeducation.com/event/pre-and-perinatal-massage-therapy-workshop-lakewood-co/
LOCATION:Colorado School of Healing Arts\, 7655 W Mississippi Ave\, Lakewood\, CO\, 80226\, United States
CATEGORIES:Pre- & Perinatal MT Workshop
ATTACH;FMTTYPE=image/jpeg:https://www.bodytherapyeducation.com/wp-content/uploads/2020/03/Michele-K-2020-2-scaled-e1621985039580.jpg
END:VEVENT
END:VCALENDAR