BEGIN:VCALENDAR
VERSION:2.0
PRODID:-//Body Therapy Education - ECPv6.15.13//NONSGML v1.0//EN
CALSCALE:GREGORIAN
METHOD:PUBLISH
X-ORIGINAL-URL:https://www.bodytherapyeducation.com
X-WR-CALDESC:Events for Body Therapy Education
REFRESH-INTERVAL;VALUE=DURATION:PT1H
X-Robots-Tag:noindex
X-PUBLISHED-TTL:PT1H
BEGIN:VTIMEZONE
TZID:UTC
BEGIN:STANDARD
TZOFFSETFROM:+0000
TZOFFSETTO:+0000
TZNAME:UTC
DTSTART:20240101T000000
END:STANDARD
END:VTIMEZONE
BEGIN:VEVENT
DTSTART;TZID=UTC:20250127T080000
DTEND;TZID=UTC:20251231T170000
DTSTAMP:20260423T225306
CREATED:20250127T011042Z
LAST-MODIFIED:20250127T011042Z
UID:20267-1737964800-1767200400@www.bodytherapyeducation.com
SUMMARY:Mentoring with Michele Holland (ongoing)
DESCRIPTION:Join Michele in elevating the practice of pre-and perinatal massage therapy. Embark on a journey of learning\, growth\, and connection in this specialized group mentoring program. \nOnline and Longmont\, CO. \nMore Information and Registration \n 
URL:https://www.bodytherapyeducation.com/event/mentoring-with-michele-holland-ongoing/
LOCATION:CA
CATEGORIES:Mentoring Groups
END:VEVENT
BEGIN:VEVENT
DTSTART;TZID=UTC:20250602T090000
DTEND;TZID=UTC:20250605T180000
DTSTAMP:20260423T225306
CREATED:20250127T002417Z
LAST-MODIFIED:20250127T002548Z
UID:19287-1748854800-1749146400@www.bodytherapyeducation.com
SUMMARY:Montpelier\, VT  Pre- and Perinatal MT Workshop - June 2 - 5\, 2025
DESCRIPTION:Here’s what you will get from our four days of maternity-related education: \n\nEvidence-based knowledge\, not mythology\nIntensive practice of specific perinatal techniques used clinically for over 30 years\nSkills to meet women’s physical and emotional childbearing needs\nUnderstanding of all phases of maternity MT care: pregnancy\, labor and postpartum\, normal and not-so-perfect pregnancies\nPositioning\, techniques and powerful\, subtle touch that are superbly applicable to many other specialty client populations\nGuidance in career- protective body mechanics and techniques\nPurpose\, focus & financial infusion into your work\nInclusion into a distinguished community of high caliber MT professionals\nThe in-person training that many employers require and that you need if you wish to apply for certification\n\nInstructor: David Lobenstine \nLocation: Emerge with Amy LePage\n15 State St.\nMontpelier\, VT \n\n  \n\n  \n 
URL:https://www.bodytherapyeducation.com/event/montpelier-vt-pre-and-perinatal-mt-workshop-june-2-5-2025/
LOCATION:Emerge with Amy LePage\, 15 State St.\, Montpelier\, VT\, United States
CATEGORIES:Pre- & Perinatal MT Workshop
ATTACH;FMTTYPE=image/png:https://www.bodytherapyeducation.com/wp-content/uploads/2017/05/product-pre-perinatal-wkshop.png
END:VEVENT
BEGIN:VEVENT
DTSTART;TZID=UTC:20250626T090000
DTEND;TZID=UTC:20250629T180000
DTSTAMP:20260423T225306
CREATED:20250303T052110Z
LAST-MODIFIED:20250303T060005Z
UID:21403-1750928400-1751220000@www.bodytherapyeducation.com
SUMMARY:Austin\, TX  Pre- and Perinatal MT Workshop - June 26 - 29\, 2025
DESCRIPTION:This is our only Deep South hands-on workshop\, and we are totally delighted to return to Austin to teach you there. For over 30 years\, The Lauterstein-Conway Massage School (TLC) has been the premier massage school in Texas. It is housed in a lovely 8\,000 sq. ft. building in Central Austin. TLC is on a city bus route and is (not at rush hour) about 20 minutes from the airport by car. You may want to enjoy swimming\, hiking and the wonderful food\, music\, and more that make Austin one of the greatest and hippest U.S. cities so consider adding a few days to your trip. \nHere’s what you will get from our four days of maternity-related education: \n\n\n\nEvidence-based knowledge\, not mythology\nIntensive practice of specific perinatal techniques used clinically for over 30 years\nSkills to meet women’s physical and emotional childbearing needs\nUnderstanding of all phases of maternity MT care: pregnancy\, labor and postpartum\, normal and not-so-perfect pregnancies\nPositioning\, techniques and powerful\, subtle touch that are superbly applicable to many other specialty client populations\nGuidance in career- protective body mechanics and techniques\nPurpose\, focus & financial infusion into your work\nInclusion into a distinguished community of high caliber MT professionals\nThe in-person training that many employers require and that you need if you wish to apply for certification\n\n\n\nLauterstein-Conway Massage School is waiting to enroll you. Tuition – $850.00 ($425.00 Deposit) *Save $100 by registering before 5/26/25!*. \nPlease note that workshops held at this school require a minimum of 50% tuition as deposit in order to secure your seat. Deposits are refundable according to specific guidelines detailed on their site. Ask the TLC staff for their robust list of local accommodations\, restaurant recommendations and more. \nIf you need to reach the school directly to register or for workshop specifics call the workshop registrar at (737)252-8234 or email them with your questions. You will not be able to register for this class through the Body Therapy Education site. \nClick button below to Register through Lauterstein-Conway Massage School
URL:https://www.bodytherapyeducation.com/event/austin-tx-pre-and-perinatal-mt-workshop-june-26-29-2025/
LOCATION:Lauterstein-Conway Massage School\, 4701 Burnet Rd\, Austin\, TX\, 78754\, United States
CATEGORIES:Pre- & Perinatal MT Workshop
ATTACH;FMTTYPE=image/png:https://www.bodytherapyeducation.com/wp-content/uploads/2017/05/product-pre-perinatal-wkshop.png
END:VEVENT
BEGIN:VEVENT
DTSTART;TZID=UTC:20250630T090000
DTEND;TZID=UTC:20250630T170000
DTSTAMP:20260423T225306
CREATED:20250303T055205Z
LAST-MODIFIED:20250303T055448Z
UID:21896-1751274000-1751302800@www.bodytherapyeducation.com
SUMMARY:Austin\, TX  Pre- and Perinatal MT Technique Refinement Workshop - June 30th\, 2025
DESCRIPTION:Is this workshop right for you: \n\nWant to refine your prenatal massage performance and understanding\nSeek further individualized body mechanics guidance\nThrive on interaction with others who share your dedication to quality perinatal MT care\nNeed inspiration and insight to rejuvenate your maternity massage therapy\nHave questions and need help with YOUR client experiences\n\nHere’s what we’ll be doing in this dynamic workshop: \n\nAssessing therapists’ questions and interests (Yes\, the more clearly that you articulate your needs\, the more tailored this workshop will be to YOU.)\nDiscussions of session design strategies\nDemonstration/ practice of requested prenatal\, labor and postpartum techniques\nNetworking and sharing\n\nNo matter what your skill level currently is\, how long ago you first studied this work\, or how few or many pregnant and postpartum clients you have worked with\, this workshop will take your session effectiveness to the next level- that’s what our participants say!  We’ll meet 9am – 5pm \nQualified Students \nOnly those therapists who have attended a 32 hour Pre- and Perinatal Massage Therapy workshop developed by Carole Osborne may participate. Please include year and location of your workshop attendance when you enroll. \nJune 30th from 9:30 am to 5:30 pm for 7CE hours \n\nPresented in-person Monday\, June 30th from 9:30 am to 5:30 pm for 7CE hours.\n \nTuition – $250.00 ($125.00 Deposit) *Save $50 by registering before 5/26/25*\n\nClick button below to Register through Lauterstein-Conway Massage School.
URL:https://www.bodytherapyeducation.com/event/austin-tx-pre-and-perinatal-mt-technique-refinement-workshop-june-30th-2025/
LOCATION:Lauterstein-Conway Massage School\, 4701 Burnet Rd\, Austin\, TX\, 78754\, United States
CATEGORIES:Pre- & Perinatal MT Workshop
END:VEVENT
END:VCALENDAR