BEGIN:VCALENDAR
VERSION:2.0
PRODID:-//Body Therapy Education - ECPv6.15.13//NONSGML v1.0//EN
CALSCALE:GREGORIAN
METHOD:PUBLISH
X-ORIGINAL-URL:https://www.bodytherapyeducation.com
X-WR-CALDESC:Events for Body Therapy Education
REFRESH-INTERVAL;VALUE=DURATION:PT1H
X-Robots-Tag:noindex
X-PUBLISHED-TTL:PT1H
BEGIN:VTIMEZONE
TZID:UTC
BEGIN:STANDARD
TZOFFSETFROM:+0000
TZOFFSETTO:+0000
TZNAME:UTC
DTSTART:20230101T000000
END:STANDARD
END:VTIMEZONE
BEGIN:VEVENT
DTSTART;TZID=UTC:20240912T090000
DTEND;TZID=UTC:20240915T180000
DTSTAMP:20260424T113014
CREATED:20240213T175918Z
LAST-MODIFIED:20240213T180310Z
UID:9380-1726131600-1726423200@www.bodytherapyeducation.com
SUMMARY:Austin\, TX Pre- & Perinatal MT Workshop: September  12 - 15\, 2024
DESCRIPTION:This is our only Deep South hands-on workshop\, and we are totally delighted to return to Austin to teach you there. For over 30 years\, The Lauterstein-Conway Massage School (TLC) has been the premier massage school in Texas. It is housed in a lovely 8\,000 sq. ft. building in Central Austin. TLC is on a city bus route and is (not at rush hour) about 20 minutes from the airport by car. You may want to enjoy swimming\, hiking and the wonderful food\, music\, and more that make Austin one of the greatest and hippest U.S. cities so consider adding a few days to your trip. \nHere’s what you will get from our four days of maternity-related education: \nEvidence-based knowledge\, not mythology \n\n\n\nIntensive practice of specific perinatal techniques used clinically for over 30 years\nSkills to meet women’s physical and emotional childbearing needs\nUnderstanding of all phases of maternity MT care: pregnancy\, labor and postpartum\, normal and not-so-perfect pregnancies\nPositioning\, techniques and powerful\, subtle touch that are superbly applicable to many other specialty client populations\nGuidance in career- protective body mechanics and techniques\nPurpose\, focus & financial infusion into your work\nInclusion into a distinguished community of high caliber MT professionals\nThe in-person training that many employers require and that you need if you wish to apply for certification\n\n\n\nLauterstein-Conway Massage School is waiting to enroll you. Tuition for the Austin workshop is $750/$850 (ask for the early enrollment discount to save $100).  Please note that workshops held at this school require a minimum of 50% tuition as deposit in order to secure your seat. Deposits are refundable according to specific guidelines detailed on their site. Ask the TLC staff for their robust list of local accommodations\, restaurant recommendations and more. \nIf you need to reach the school directly to register or for workshop specifics call the workshop registrar at 512-374-9222 x11 or email them with your questions. You will not be able to register for this class through the Body Therapy Education site. If you have any questions or concerns\, please contact us at 858.633.3033 or info@bodytherapyeducation.com. \nREGISTER \nThis book is required reading for those taking the Pre- and Perinatal MT workshop:\n Pre- & Perinatal Massage Therapy: A Comprehensive Guide to Prenatal\, Labor\, and Postpartum Practice\, 3rd Edition. (To order the book from the publisher\, Singing Dragon\, click on the following link: https://us.singingdragon.com/products/pre-and-perinatal-massage-therapy.
URL:https://www.bodytherapyeducation.com/event/austin-tx-pre-perinatal-mt-workshop-september-12-15-2024/
LOCATION:Lauterstein-Conway Massage School\, 4701 Burnet Rd\, Austin\, TX\, 78754\, United States
CATEGORIES:Pre- & Perinatal MT Workshop
ATTACH;FMTTYPE=image/png:https://www.bodytherapyeducation.com/wp-content/uploads/2017/05/product-pre-perinatal-wkshop.png
END:VEVENT
END:VCALENDAR