BEGIN:VCALENDAR
VERSION:2.0
PRODID:-//Body Therapy Education - ECPv6.15.13//NONSGML v1.0//EN
CALSCALE:GREGORIAN
METHOD:PUBLISH
X-WR-CALNAME:Body Therapy Education
X-ORIGINAL-URL:https://www.bodytherapyeducation.com
X-WR-CALDESC:Events for Body Therapy Education
REFRESH-INTERVAL;VALUE=DURATION:PT1H
X-Robots-Tag:noindex
X-PUBLISHED-TTL:PT1H
BEGIN:VTIMEZONE
TZID:UTC
BEGIN:STANDARD
TZOFFSETFROM:+0000
TZOFFSETTO:+0000
TZNAME:UTC
DTSTART:20230101T000000
END:STANDARD
END:VTIMEZONE
BEGIN:VEVENT
DTSTART;TZID=UTC:20240603T090000
DTEND;TZID=UTC:20240606T180000
DTSTAMP:20260424T153930
CREATED:20240222T004629Z
LAST-MODIFIED:20240329T171547Z
UID:9385-1717405200-1717696800@www.bodytherapyeducation.com
SUMMARY:Orlando\, FL  Pre- and Perinatal MT Workshop - June 3 - 6\, 2024
DESCRIPTION:Take your career to the next level and earn 32 CEs through NCB June 3rd – 6th\, 2024. \nOur location for this four-day workshop is Orlando\, Florida’s Inspirit School of Healing Arts. During four eight-hour sessions\, you will learn over 80 techniques that you can use in your practice with clients in each stage of pregnancy through the fourth trimester (postpartum). Many of these techniques will also enhance your work with all client populations making this an invaluable training for the longevity of your career. \nProfessional Prerequisites\nLicensed/registered massage therapists\, student massage therapists who have completed 500+ hours of accredited school training\, and other maternity care professionals with a touch scope of practice including bodyworkers (Structural Integration practitioner\, Rolfer\, etc.)\, physical therapists\, doulas\, midwives\, nurses\, and physicians are welcome. \nInspirit School of Healing Arts is located in the heart of Orlando\, Florida\, less than 20 minutes from the world’s best known theme park attractions such as Walt Disney World\, Sea World and Islands of Adventure. The school is less than an hour drive to Cocoa Beach\, Canaveral National SeaShore and NASA. \n$750 if registered before May 1st\, $850 after \nHere’s what you will get from our four days of maternity-related education: \nEvidence-based knowledge\, not mythology \n\n\n\nIntensive practice of specific perinatal techniques used clinically for over 30 years\nSkills to meet women’s physical and emotional childbearing needs\nUnderstanding of all phases of maternity MT care: pregnancy\, labor and postpartum\, normal and not-so-perfect pregnancies\nPositioning\, techniques and powerful\, subtle touch that are superbly applicable to many other specialty client populations\nGuidance in career- protective body mechanics and techniques\nPurpose\, focus & financial infusion into your work\nInclusion into a distinguished community of high caliber MT professionals\nThe in-person training that many employers require and that you need if you wish to apply for certification\n\n\n\n\nThis book is required reading for those taking the Pre- and Perinatal MT workshop:\n Pre- & Perinatal Massage Therapy: A Comprehensive Guide to Prenatal\, Labor\, and Postpartum Practice\, 3rd Edition. (To order the book from the publisher\, Singing Dragon\, click on the following link: https://us.singingdragon.com/products/pre-and-perinatal-massage-therapy \nEverything further that you need to know will be sent via email in a student registration packet after deposit/payment.
URL:https://www.bodytherapyeducation.com/event/orlando-fl-pre-and-perinatal-massage-therapy-workshop-june-3-6-2024/
LOCATION:Inspirit School of Healing Arts\, 7575 Kingspointe Pkwy #21\, Orlando\, FL\, 32819\, United States
ATTACH;FMTTYPE=image/png:https://www.bodytherapyeducation.com/wp-content/uploads/2017/05/product-pre-perinatal-wkshop.png
END:VEVENT
END:VCALENDAR