BEGIN:VCALENDAR
VERSION:2.0
PRODID:-//Body Therapy Education - ECPv6.15.13//NONSGML v1.0//EN
CALSCALE:GREGORIAN
METHOD:PUBLISH
X-ORIGINAL-URL:https://www.bodytherapyeducation.com
X-WR-CALDESC:Events for Body Therapy Education
REFRESH-INTERVAL;VALUE=DURATION:PT1H
X-Robots-Tag:noindex
X-PUBLISHED-TTL:PT1H
BEGIN:VTIMEZONE
TZID:UTC
BEGIN:STANDARD
TZOFFSETFROM:+0000
TZOFFSETTO:+0000
TZNAME:UTC
DTSTART:20200101T000000
END:STANDARD
END:VTIMEZONE
BEGIN:VEVENT
DTSTART;TZID=UTC:20230603T090000
DTEND;TZID=UTC:20230611T180000
DTSTAMP:20260423T104253
CREATED:20230109T033224Z
LAST-MODIFIED:20230221T191657Z
UID:8951-1685782800-1686506400@www.bodytherapyeducation.com
SUMMARY:Longmont\, CO Pre- and Perinatal MT Specialization Workshop June 3\, 4\, 10\, 11\, 2023
DESCRIPTION:Enjoy learning in Colorado’s beautiful late spring at the Berkana Institute of Massage Therapy’s new home\, a historic mansion located in the heart of downtown Longmont in Boulder County. This workshop is perfect if you want to enjoy this 4 day workshop in a back to back weekend schedule with five days in between to explore Colorado. Just a block away from Longmont’s quaint historic main street\, Berkana Institute is a convenient pedestrian and bike-friendly location near local restaurants\, shops and lodging. June is one of the most beautiful months to enjoy Colorado wildflower hikes in the foothills\, as well as adventures to Rocky Mountain National Park just an hour away. Another destination is Boulder only 20 minutes away\, home to the famous Pearl Street Mall with the best people watching around and also offers adventures galore including Chautaqua Park concerts. This workshop is limited to 18 participants so you’ll be treated to a very personalized learning experience with your instructor.  \nHere’s what you will get from our four days of maternity-related education: \nEvidence-based knowledge\, not mythology \n\n\n\n\n\n\n\nIntensive practice of specific perinatal techniques used clinically for over 30 years\nSkills to meet clients’ physical and emotional childbearing needs\nUnderstanding of all phases of maternity MT care: pregnancy\, labor and postpartum\, normal and not-so-perfect pregnancies\nPositioning\, techniques and powerful\, subtle touch that are superbly applicable to many other specialty client populations\nGuidance in career- protective body mechanics and techniques\nPurpose\, focus & financial infusion into your work\nInclusion into a distinguished community of high caliber MT professionals\nThe in-person training that many employers require and that you need if you wish to apply for certification\n\n\n\n\n\n\n\nSanctuary Healing Arts is waiting to enroll you. Tuition for the Longmont workshop is $695/$795 (enroll 30 days in advance and save $100!). Upon registering\, you’ll receive a robust list of local accommodations\, transportation\, restaurants and Colorado October activities. Denver International Airport is 45 minutes from Longmont with daily shuttle and bus services. Contact Michele Holland at michele@sanctuaryhealingartsllc.com with any questions or concerns.\n \nThis book is required reading for those taking the Pre- and Perinatal MT workshop:\nPre- & Perinatal Massage Therapy: A Comprehensive Guide to Prenatal\, Labor\, and Postpartum Practice\, 3rd Edition. (To order the book from the publisher\, Singing Dragon\, click on the following link: https://us.singingdragon.com/products/pre-and-perinatal-massage-therapy. \n 
URL:https://www.bodytherapyeducation.com/event/longmont-co-pre-and-perinatal-mt-specialization-workshop-june-3-4-10-11-2023/
LOCATION:Berkana Institute\, 703 3rd Avenue\, Longmont\, CO\, 80501\, United States
CATEGORIES:Pre- & Perinatal MT Workshop
ATTACH;FMTTYPE=image/png:https://www.bodytherapyeducation.com/wp-content/uploads/2017/05/product-pre-perinatal-wkshop.png
END:VEVENT
BEGIN:VEVENT
DTSTART;TZID=UTC:20230420T090000
DTEND;TZID=UTC:20230423T180000
DTSTAMP:20260423T104253
CREATED:20201215T205419Z
LAST-MODIFIED:20230221T185826Z
UID:7382-1681981200-1682272800@www.bodytherapyeducation.com
SUMMARY:Seattle\, WA Pre & Perinatal MT Workshop:  April 20 - 23\, 2023
DESCRIPTION:Simkin Center for Allied Birth Vocation at Bastyr University is located just 10 miles northeast  Seattle in Kenmore\, Washington. The weather is mild; the scenery is beautiful; and the campus sits on 50 acres of fields and woodlands on the northeast shore of Lake Washington. Quiet\, serene and beautiful\, a great place to learn and relax. They can be reached at 425.602.3361. \n\nConvenient dorm rooms are available for on site lodging. Great bargain for therapists to come from afar\, and maybe even stay for an extra retreat day. To inquire or make a reservation\, please contact our Conference Services Department at 206.595.9009 or 425.602.306 or e-mail confer@bastyr.edu. We recommend making a reservation as soon as possible and there is no fee to cancel. From the airport\, we recommend taking the Shuttle Express to our campus; a one-way trip costs approximately $40 and it takes about 40-45 minutes\, depending on traffic. Their phone is (425)-981-7000 or you can e-mail sales@shuttleexpress.net. \nHere’s what you will get from our four days of maternity-related education: \n\n\n\nEvidence-based knowledge\, not mythology\nIntensive practice of specific perinatal techniques used clinically for over 30 years\nSkills to meet women’s physical and emotional childbearing needs\nUnderstanding of all phases of maternity MT care: pregnancy\, labor and postpartum\, normal and not-so-perfect pregnancies\nPositioning\, techniques and powerful\, subtle touch that are superbly applicable to many other specialty client populations\nGuidance in career- protective body mechanics and techniques\nPurpose\, focus & financial infusion into your work\nInclusion into a distinguished community of high caliber MT professionals\nThe in-person training that many employers require and that you need if you wish to apply for certification\n\n\n\nSimkin Center at Bastyr University is waiting to enroll you. Tuition for the Seattle workshop is $645/$745 (ask for the early enrollment discount to save $100). To reach Simkin Center directly to register or for workshop specifics call 425-602-3361 or email them with your questions. You will not be able to register for this class through the Body Therapy Education site. If you have any questions or concerns\, please contact us at 858.633.3033 or info@bodytherapyeducation.com \nPlease note: this book is required reading for those taking the P&PMT workshop:\nPre- & Perinatal Massage Therapy: A Comprehensive Guide to Prenatal\, Labor\, and Postpartum Practice\, 3rd Edition.
URL:https://www.bodytherapyeducation.com/event/seattle-wa-pre-perinatal-mt-workshop-april-20-23-2023/
LOCATION:Bastyr University\, 14500 Juanita Drive N.E.\, Kenmore\, WA\, 98028\, United States
CATEGORIES:Pre- & Perinatal MT Workshop
ATTACH;FMTTYPE=image/png:https://www.bodytherapyeducation.com/wp-content/uploads/2017/05/product-pre-perinatal-wkshop.png
END:VEVENT
BEGIN:VEVENT
DTSTART;TZID=UTC:20221107T090000
DTEND;TZID=UTC:20221110T180000
DTSTAMP:20260423T104253
CREATED:20211022T170450Z
LAST-MODIFIED:20221104T073011Z
UID:8565-1667811600-1668103200@www.bodytherapyeducation.com
SUMMARY:San Diego\, CA Pre- & Perinatal MT Workshop: November 7 - 10\, 2022
DESCRIPTION:Sunny days\, ocean breezes and cool evenings! Body Therapy Education invites you to join us in our hometown of San Diego. You’ll love the Marina Village Conference Center\, (Coral Room B-1845)\, which is centered in a tranquil resort on beautiful Mission Bay. This relaxed and professional setting features flower-filled courtyards and bayside views. Free parking\, easy freeway access\, and an open\, sun-filled classroom space will all enhance your learning experience. You can enjoy San Diego’s beauty during one of the most economical times to stay at one of many hotels in the area. Class meets from 9 a.m. for the first three days and 8:30 a.m. on the last day and runs until 6 p.m. on all four days. \nInvestment for 32 CE hours is $595 before October 7th and $695 after. \nA non-refundable $100 will hold your space in the workshop\, with the balance due at check-in on November 7. Complete your registration online by clicking either the $100 deposit button or Registration button for full tuition payment. If you would like to pay by check\, please mail it to Body Therapy Education\, 1143 Sutter St.\, San Diego\, CA 92103. \nTo register with a $100 Deposit\, click the button below. \n\n  \n\n 
URL:https://www.bodytherapyeducation.com/event/san-diego-ca-pre-perinatal-mt-workshop-november-7-10-2022/
LOCATION:Marina Village Conference Center – Terrace Room\, 1936 Quivira Way\, San Diego\, CA\, 92109\, United States
CATEGORIES:Pre- & Perinatal MT Workshop
ATTACH;FMTTYPE=image/png:https://www.bodytherapyeducation.com/wp-content/uploads/2017/05/product-pre-perinatal-wkshop.png
ORGANIZER;CN="Body Therapy Education":MAILTO:info@bodytherapyeducation.com
END:VEVENT
BEGIN:VEVENT
DTSTART;TZID=UTC:20220825T133000
DTEND;TZID=UTC:20220825T153000
DTSTAMP:20260423T104253
CREATED:20220625T235413Z
LAST-MODIFIED:20220625T235413Z
UID:8767-1661434200-1661441400@www.bodytherapyeducation.com
SUMMARY:No Feet and Other Fallacies: Exploring Prenatal Massage Myths
DESCRIPTION:This course will clarify what we do and do not know about how massage therapy affects our pregnant clients. We will examine the many myths around pregnancy\, explore the growing body of research and develop our own critical thinking skills.\n\n\nAugust 25\, 2022\nTwo Presentation Times:\n1:30pm – 3:30pm \n4:00pm – 6:00pm\n2 CEs\n\n \nFor more information and to register for the AMTA National Convention\, click here.
URL:https://www.bodytherapyeducation.com/event/no-feet-and-other-fallacies-exploring-prenatal-massage-myths/
LOCATION:Huntington Convention Center of Cleveland\, 300 Lakeside Ave E\, Cleveland\, OH\, 44113
CATEGORIES:Workshops
END:VEVENT
BEGIN:VEVENT
DTSTART;TZID=UTC:20211201T080000
DTEND;TZID=UTC:20211215T170000
DTSTAMP:20260423T104253
CREATED:20211104T050344Z
LAST-MODIFIED:20211119T064315Z
UID:8622-1638345600-1639587600@www.bodytherapyeducation.com
SUMMARY:Advantages of Sidelying Positioning Introduction: An Online Course Launch
DESCRIPTION:Are you ready to refresh your practice? Would you like to include more pregnant clients\, post-surgical patients\, or elders into your practice? Learn how to set up sidelying positioning with a variety of equipment. Explore how to relax and stabilize your sidelying clients while practicing efficient body mechanics. Improve access to and increase mobilization of the pelvis\, pectoral girdle and spine. Hear how therapists are opening new markets by featuring sidelying positioning options. \nWhat you will get from this three continuing education hour webinar (approved by NCBTMB): \n\nquick\, efficient methods to stabilize your clients that enhance not distract from your massage time\nfresh approaches for clients who have plateaued in their progress\nreassurance that your pregnant\, postpartum and other special needs clients are safe and comfortable on their sides\neasier sidelying draping skills to securely cover breasts and the pelvic region\nideas for improving your access to hard-to-work structures such as pectoralis minor\, quadratus lumborum\, deeper structures of the hip joints and the ribcage\ntips for applying these skills to attract more expectant and postpartum clients\, those with postural deviations\, post-surgical patients and fragile or elderly clients onto your table\n\nLearn from two of our authorized instructors\, Pam Guldi and Margi Hadorn and from Carole Osborne who bring you decades of specialized practice with pregnant\, postpartum and other clients needing to receive sidelying bodywork and massage. \nWe will be ready to take your registration for this on-demand online course soon. In the meanwhile\, toss your hat in the ring by contacting us so we can get you registered when it becomes available.
URL:https://www.bodytherapyeducation.com/event/advantages-of-sidelying-positioning-introduction-an-online-course-launch/
LOCATION:Online\, United States
CATEGORIES:Online Courses
END:VEVENT
BEGIN:VEVENT
DTSTART;TZID=UTC:20211108T080000
DTEND;TZID=UTC:20211111T170000
DTSTAMP:20260423T104253
CREATED:20201114T111916Z
LAST-MODIFIED:20211009T041445Z
UID:7239-1636358400-1636650000@www.bodytherapyeducation.com
SUMMARY:San Diego Pre- & Perinatal MT Workshop: November 8 - 11\, 2021
DESCRIPTION:  \nSunny days\, ocean breezes and cool evenings! Body Therapy Education invites you to join us in our hometown of San Diego. You’ll love the Marina Village Conference Center\, which is centered in a tranquil resort on beautiful Mission Bay. This relaxed and professional setting features flower-filled courtyards and bayside views. Free parking\, easy freeway access\, and an open\, sun-filled classroom space will all enhance your learning experience. You can enjoy San Diego’s beauty during one of the most economical times to stay at one of many hotels in the area. Class meets from 9 a.m. for the first three days and 8:30 a.m. on the last day and runs until 6 p.m. on all four days. \nCOVID June 21COVID-19 Infection Prevention Strategies \n 
URL:https://www.bodytherapyeducation.com/event/san-diego-pre-perinatal-mt-workshop-november-8-11-2021/
LOCATION:Marina Village Conference Center – Terrace Room\, 1936 Quivira Way\, San Diego\, CA\, 92109\, United States
CATEGORIES:Pre- & Perinatal MT Workshop
ATTACH;FMTTYPE=image/png:https://www.bodytherapyeducation.com/wp-content/uploads/2017/05/product-pre-perinatal-wkshop.png
END:VEVENT
BEGIN:VEVENT
DTSTART;TZID=UTC:20211022T080000
DTEND;TZID=UTC:20211022T170000
DTSTAMP:20260423T104253
CREATED:20211022T171247Z
LAST-MODIFIED:20211022T171247Z
UID:8588-1634889600-1634922000@www.bodytherapyeducation.com
SUMMARY:Spinning Babies 2021 World Confluence Virtual Conference
DESCRIPTION:Presentation: \nRhythmic Rocking: The Head Bone is Connected to the Pelvic Bones (and the Spine Is\, Too!)\nwith Carole Osborne\, BA\, CMT\, BCTMB with Pamela Guldi\, LMT\, ATMAT\nParticipants in Bodyworkers’ Roundtable Discussion immediately following presentation \nhttps://spinningbabiesconference.com/ \n  \nRegistration is closed as of September 30.
URL:https://www.bodytherapyeducation.com/event/spinning-babies-2021-world-confluence-virtual-conference/
END:VEVENT
END:VCALENDAR