BEGIN:VCALENDAR
VERSION:2.0
PRODID:-//Body Therapy Education - ECPv6.15.13//NONSGML v1.0//EN
CALSCALE:GREGORIAN
METHOD:PUBLISH
X-ORIGINAL-URL:https://www.bodytherapyeducation.com
X-WR-CALDESC:Events for Body Therapy Education
REFRESH-INTERVAL;VALUE=DURATION:PT1H
X-Robots-Tag:noindex
X-PUBLISHED-TTL:PT1H
BEGIN:VTIMEZONE
TZID:UTC
BEGIN:STANDARD
TZOFFSETFROM:+0000
TZOFFSETTO:+0000
TZNAME:UTC
DTSTART:20240101T000000
END:STANDARD
END:VTIMEZONE
BEGIN:VEVENT
DTSTART;TZID=UTC:20250127T080000
DTEND;TZID=UTC:20251231T170000
DTSTAMP:20260424T002744
CREATED:20250127T011042Z
LAST-MODIFIED:20250127T011042Z
UID:20267-1737964800-1767200400@www.bodytherapyeducation.com
SUMMARY:Mentoring with Michele Holland (ongoing)
DESCRIPTION:Join Michele in elevating the practice of pre-and perinatal massage therapy. Embark on a journey of learning\, growth\, and connection in this specialized group mentoring program. \nOnline and Longmont\, CO. \nMore Information and Registration \n 
URL:https://www.bodytherapyeducation.com/event/mentoring-with-michele-holland-ongoing/
LOCATION:CA
CATEGORIES:Mentoring Groups
END:VEVENT
BEGIN:VEVENT
DTSTART;TZID=UTC:20250602T090000
DTEND;TZID=UTC:20250605T180000
DTSTAMP:20260424T002744
CREATED:20250127T002417Z
LAST-MODIFIED:20250127T002548Z
UID:19287-1748854800-1749146400@www.bodytherapyeducation.com
SUMMARY:Montpelier\, VT  Pre- and Perinatal MT Workshop - June 2 - 5\, 2025
DESCRIPTION:Here’s what you will get from our four days of maternity-related education: \n\nEvidence-based knowledge\, not mythology\nIntensive practice of specific perinatal techniques used clinically for over 30 years\nSkills to meet women’s physical and emotional childbearing needs\nUnderstanding of all phases of maternity MT care: pregnancy\, labor and postpartum\, normal and not-so-perfect pregnancies\nPositioning\, techniques and powerful\, subtle touch that are superbly applicable to many other specialty client populations\nGuidance in career- protective body mechanics and techniques\nPurpose\, focus & financial infusion into your work\nInclusion into a distinguished community of high caliber MT professionals\nThe in-person training that many employers require and that you need if you wish to apply for certification\n\nInstructor: David Lobenstine \nLocation: Emerge with Amy LePage\n15 State St.\nMontpelier\, VT \n\n  \n\n  \n 
URL:https://www.bodytherapyeducation.com/event/montpelier-vt-pre-and-perinatal-mt-workshop-june-2-5-2025/
LOCATION:Emerge with Amy LePage\, 15 State St.\, Montpelier\, VT\, United States
CATEGORIES:Pre- & Perinatal MT Workshop
ATTACH;FMTTYPE=image/png:https://www.bodytherapyeducation.com/wp-content/uploads/2017/05/product-pre-perinatal-wkshop.png
END:VEVENT
BEGIN:VEVENT
DTSTART;TZID=UTC:20250626T090000
DTEND;TZID=UTC:20250629T180000
DTSTAMP:20260424T002744
CREATED:20250303T052110Z
LAST-MODIFIED:20250303T060005Z
UID:21403-1750928400-1751220000@www.bodytherapyeducation.com
SUMMARY:Austin\, TX  Pre- and Perinatal MT Workshop - June 26 - 29\, 2025
DESCRIPTION:This is our only Deep South hands-on workshop\, and we are totally delighted to return to Austin to teach you there. For over 30 years\, The Lauterstein-Conway Massage School (TLC) has been the premier massage school in Texas. It is housed in a lovely 8\,000 sq. ft. building in Central Austin. TLC is on a city bus route and is (not at rush hour) about 20 minutes from the airport by car. You may want to enjoy swimming\, hiking and the wonderful food\, music\, and more that make Austin one of the greatest and hippest U.S. cities so consider adding a few days to your trip. \nHere’s what you will get from our four days of maternity-related education: \n\n\n\nEvidence-based knowledge\, not mythology\nIntensive practice of specific perinatal techniques used clinically for over 30 years\nSkills to meet women’s physical and emotional childbearing needs\nUnderstanding of all phases of maternity MT care: pregnancy\, labor and postpartum\, normal and not-so-perfect pregnancies\nPositioning\, techniques and powerful\, subtle touch that are superbly applicable to many other specialty client populations\nGuidance in career- protective body mechanics and techniques\nPurpose\, focus & financial infusion into your work\nInclusion into a distinguished community of high caliber MT professionals\nThe in-person training that many employers require and that you need if you wish to apply for certification\n\n\n\nLauterstein-Conway Massage School is waiting to enroll you. Tuition – $850.00 ($425.00 Deposit) *Save $100 by registering before 5/26/25!*. \nPlease note that workshops held at this school require a minimum of 50% tuition as deposit in order to secure your seat. Deposits are refundable according to specific guidelines detailed on their site. Ask the TLC staff for their robust list of local accommodations\, restaurant recommendations and more. \nIf you need to reach the school directly to register or for workshop specifics call the workshop registrar at (737)252-8234 or email them with your questions. You will not be able to register for this class through the Body Therapy Education site. \nClick button below to Register through Lauterstein-Conway Massage School
URL:https://www.bodytherapyeducation.com/event/austin-tx-pre-and-perinatal-mt-workshop-june-26-29-2025/
LOCATION:Lauterstein-Conway Massage School\, 4701 Burnet Rd\, Austin\, TX\, 78754\, United States
CATEGORIES:Pre- & Perinatal MT Workshop
ATTACH;FMTTYPE=image/png:https://www.bodytherapyeducation.com/wp-content/uploads/2017/05/product-pre-perinatal-wkshop.png
END:VEVENT
BEGIN:VEVENT
DTSTART;TZID=UTC:20250630T090000
DTEND;TZID=UTC:20250630T170000
DTSTAMP:20260424T002744
CREATED:20250303T055205Z
LAST-MODIFIED:20250303T055448Z
UID:21896-1751274000-1751302800@www.bodytherapyeducation.com
SUMMARY:Austin\, TX  Pre- and Perinatal MT Technique Refinement Workshop - June 30th\, 2025
DESCRIPTION:Is this workshop right for you: \n\nWant to refine your prenatal massage performance and understanding\nSeek further individualized body mechanics guidance\nThrive on interaction with others who share your dedication to quality perinatal MT care\nNeed inspiration and insight to rejuvenate your maternity massage therapy\nHave questions and need help with YOUR client experiences\n\nHere’s what we’ll be doing in this dynamic workshop: \n\nAssessing therapists’ questions and interests (Yes\, the more clearly that you articulate your needs\, the more tailored this workshop will be to YOU.)\nDiscussions of session design strategies\nDemonstration/ practice of requested prenatal\, labor and postpartum techniques\nNetworking and sharing\n\nNo matter what your skill level currently is\, how long ago you first studied this work\, or how few or many pregnant and postpartum clients you have worked with\, this workshop will take your session effectiveness to the next level- that’s what our participants say!  We’ll meet 9am – 5pm \nQualified Students \nOnly those therapists who have attended a 32 hour Pre- and Perinatal Massage Therapy workshop developed by Carole Osborne may participate. Please include year and location of your workshop attendance when you enroll. \nJune 30th from 9:30 am to 5:30 pm for 7CE hours \n\nPresented in-person Monday\, June 30th from 9:30 am to 5:30 pm for 7CE hours.\n \nTuition – $250.00 ($125.00 Deposit) *Save $50 by registering before 5/26/25*\n\nClick button below to Register through Lauterstein-Conway Massage School.
URL:https://www.bodytherapyeducation.com/event/austin-tx-pre-and-perinatal-mt-technique-refinement-workshop-june-30th-2025/
LOCATION:Lauterstein-Conway Massage School\, 4701 Burnet Rd\, Austin\, TX\, 78754\, United States
CATEGORIES:Pre- & Perinatal MT Workshop
END:VEVENT
BEGIN:VEVENT
DTSTART;TZID=UTC:20250710T090000
DTEND;TZID=UTC:20250713T180000
DTSTAMP:20260424T002744
CREATED:20241115T045607Z
LAST-MODIFIED:20241115T052102Z
UID:14700-1752138000-1752429600@www.bodytherapyeducation.com
SUMMARY:Longmont\, CO  Pre- and Perinatal MT Workshop- July 10 - 13\, 2025
DESCRIPTION:Here’s what you will get from our four days of maternity-related education: \n\nEvidence-based knowledge\, not mythology\nIntensive practice of specific perinatal techniques used clinically for over 30 years\nSkills to meet women’s physical and emotional childbearing needs\nUnderstanding of all phases of maternity MT care: pregnancy\, labor and postpartum\, normal and not-so-perfect pregnancies\nPositioning\, techniques and powerful\, subtle touch that are superbly applicable to many other specialty client populations\nGuidance in career- protective body mechanics and techniques\nPurpose\, focus & financial infusion into your work\nInclusion into a distinguished community of high caliber MT professionals\nThe in-person training that many employers require and that you need if you wish to apply for certification\n\nFriday-Monday\, July 10 – 13*\, 2025\, 9am-6pm (*8:30am start on July 13th) \nBerkana Institute of Massage Therapy\n703 3rd Ave\, Longmont\, CO 80501 \n$850 tuition with payment plan available \n 
URL:https://www.bodytherapyeducation.com/event/longmont-co-pre-and-perinatal-mt-workshop-july-10-13-2025/
LOCATION:Berkana Institute\, 703 3rd Avenue\, Longmont\, CO\, 80501\, United States
CATEGORIES:Pre- & Perinatal MT Workshop
ATTACH;FMTTYPE=image/png:https://www.bodytherapyeducation.com/wp-content/uploads/2017/05/product-pre-perinatal-wkshop.png
END:VEVENT
BEGIN:VEVENT
DTSTART;TZID=UTC:20250925T090000
DTEND;TZID=UTC:20250928T180000
DTSTAMP:20260424T002744
CREATED:20250603T052243Z
LAST-MODIFIED:20250603T052243Z
UID:26425-1758790800-1759082400@www.bodytherapyeducation.com
SUMMARY:Worcester\, MA Pre- and Perinatal MT Workshop - September 25 - 28\, 2025
DESCRIPTION:Come to New England this fall! Bancroft School of Massage Therapy has been training professional massage therapists since 1950. A sound philosophy of massage\, combined with academic excellence\, has made Bancroft one of the most respected massage therapy schools in the country. Just steps from the school you’ll find Worcester’s best restaurants. Enjoy the foliage as you walk through the griffins into Cristoforo Colombo Park (aka East Park) for a lunchtime breath of fresh air! \nHere’s what you will get from our four days of maternity-related education: \nEvidence-based knowledge\, not mythology \n\nIntensive practice of specific perinatal techniques used clinically for over 30 years\nSkills to meet clients’ physical and emotional childbearing needs\nUnderstanding of all phases of maternity MT care: pregnancy\, labor and postpartum\, normal and not-so-perfect pregnancies\nPositioning\, techniques and powerful\, subtle touch that are superbly applicable to many other specialty client populations\nGuidance in career- protective body mechanics and techniques\nPurpose\, focus & financial infusion into your work\nInclusion into a distinguished community of high caliber MT professionals\nThe in-person training that many employers require and that you need if you wish to apply for certification\n\nBancroft School of Massage Therapy\, Worcester\, MA\nLocation website: https://bancroftsmt.com/\n\nTuition:  $850\nEarly bird rate:  $800 (on or before August 15\, 2025)\n\nRegistration link:  https://bancroftsmt.com/events/pre-and-perinatal-massage-therapy-workshop/\n\nCancellation policy:\nRefund/Cancellation Policy: The fee for the workshop is refundable. To receive a refund\, you must notify the school by phone (508-757-7923) or email jhigh@bancroftsmt.com. For Saturday or Sunday workshops\,\nthe cancellation request must be received by noon the Friday before the workshop. All other workshops must receive notice of cancellation by noon the day before. Any cancellations outside of these time frames\nmay receive a refund minus a $50 fee or receive the full amount in credit for a future course. If you do not provide notice of cancellation and do not attend the workshop\, no refund will be issued.
URL:https://www.bodytherapyeducation.com/event/worcester-ma-pre-and-perinatal-mt-september-25-28-2025/
LOCATION:Bancroft School of Massage Therapy\, 333 Shrewsbury St\, Worcester\, MA\, 01604\, United States
ATTACH;FMTTYPE=image/png:https://www.bodytherapyeducation.com/wp-content/uploads/2017/05/product-pre-perinatal-wkshop.png
END:VEVENT
BEGIN:VEVENT
DTSTART;TZID=UTC:20251103T090000
DTEND;TZID=UTC:20251106T180000
DTSTAMP:20260424T002744
CREATED:20240329T173424Z
LAST-MODIFIED:20250418T194301Z
UID:9422-1762160400-1762452000@www.bodytherapyeducation.com
SUMMARY:San Diego\, CA  Pre- and Perinatal MT Workshop - November 3 - 6\, 2025
DESCRIPTION:Sunny days\, ocean breezes and cool evenings! Body Therapy Education invites you to join us in our hometown of San Diego. You’ll love the Marina Village Conference Center\, (Coral Room B-1845)\, which is centered in a tranquil resort on beautiful Mission Bay. This relaxed and professional setting features flower-filled courtyards and bayside views. Free parking\, easy freeway access\, and an open classroom space will all enhance your learning experience. You can enjoy San Diego’s beauty during on of the most economical times to stay at one of the many hotels in the area. Class meets 9am – 6pm (fourth day class runs 8:30 a.m. – 6:00 p.m.) (Registration 8:45 a.m. on Monday.  No early dismissal on Thursday.) \nHere’s what you will get from our four days of maternity-related education: \nEvidence-based knowledge\, not mythology \n\nIntensive practice of specific perinatal techniques used clinically for over 30 years\nSkills to meet clients’ physical and emotional childbearing needs\nUnderstanding of all phases of maternity MT care: pregnancy\, labor and postpartum\, normal and not-so-perfect pregnancies\nPositioning\, techniques and powerful\, subtle touch that are superbly applicable to many other specialty client populations\nGuidance in career- protective body mechanics and techniques\nPurpose\, focus & financial infusion into your work\nInclusion into a distinguished community of high caliber MT professionals\nThe in-person training that many employers require and that you need if you wish to apply for certification\n\nSparrow Harrington\, instructor\, is waiting to enroll you. Tuition for the San Diego workshop is $775/$850 (enroll 30 days in advance to save $100!). You will not be able to register for this class through the Body Therapy Education site. Upon registering with Sparrow\, you’ll receive a list of local accommodations. If you have questions you can email Sparrow at sparrow@sparrowmassage.com.\n \nThis book is required reading for those taking the Pre- and Perinatal MT workshop:\nPre- & Perinatal Massage Therapy: A Comprehensive Guide to Prenatal\, Labor\, and Postpartum Practice\, 3rd Edition. (To order the book from the publisher\, Singing Dragon\, click on the following link: https://us.singingdragon.com/products/pre-and-perinatal-massage-therapy. \n  \n\n  \n\n  \n 
URL:https://www.bodytherapyeducation.com/event/san-diego-ca-pre-and-perinatal-mt-workshop-november-3-6-2025/
LOCATION:Marina Village Conferene Center – Coral Room\, 1936 Quivira Way\, San Diego\, CA\, 92109\, United States
ATTACH;FMTTYPE=image/png:https://www.bodytherapyeducation.com/wp-content/uploads/2017/05/product-pre-perinatal-wkshop.png
END:VEVENT
BEGIN:VEVENT
DTSTART;TZID=UTC:20260216T090000
DTEND;TZID=UTC:20260219T180000
DTSTAMP:20260424T002744
CREATED:20260113T213131Z
LAST-MODIFIED:20260124T182329Z
UID:26481-1771232400-1771524000@www.bodytherapyeducation.com
SUMMARY:Orlando\, FL Pre-and Perinatal Massage Therapy Workshop – February 16-19\, 2026
DESCRIPTION:
URL:https://www.bodytherapyeducation.com/event/pre-and-perinatal-massage-therapy-workshop-orlando-fl-february-16-19-2026/
LOCATION:Central Florida School of Massage Therapy\, 450 N Lakemont Ave.\, Winter Park\, FL\, 32792\, United States
CATEGORIES:Pre- & Perinatal MT Workshop
ATTACH;FMTTYPE=image/jpeg:https://www.bodytherapyeducation.com/wp-content/uploads/2022/02/pam-bio-pic-e1769279107136.jpg
ORGANIZER;CN="Pam Guldi":MAILTO:pamguldi@gmail.com
END:VEVENT
BEGIN:VEVENT
DTSTART;TZID=UTC:20260302T090000
DTEND;TZID=UTC:20260305T180000
DTSTAMP:20260424T002744
CREATED:20241227T170536Z
LAST-MODIFIED:20260124T182142Z
UID:16985-1772442000-1772733600@www.bodytherapyeducation.com
SUMMARY:Pasadena\, CA  Pre- and Perinatal Massage Therapy Workshop - March 2 - 5\, 2026
DESCRIPTION:
URL:https://www.bodytherapyeducation.com/event/pasadena-ca-pre-and-perinatal-mt-workshop-pasadena-ca/
LOCATION:Hyatt Place Pasadena\, 399 E Green St\, Pasadena\, CA\, 91101\, United States
CATEGORIES:Pre- & Perinatal MT Workshop
ATTACH;FMTTYPE=image/jpeg:https://www.bodytherapyeducation.com/wp-content/uploads/2024/12/Sparrow-Head-Shot.jpg
END:VEVENT
BEGIN:VEVENT
DTSTART;TZID=UTC:20260316T090000
DTEND;TZID=UTC:20260319T180000
DTSTAMP:20260424T002744
CREATED:20260113T214545Z
LAST-MODIFIED:20260124T182127Z
UID:26484-1773651600-1773943200@www.bodytherapyeducation.com
SUMMARY:New York\, NY- Pre- and Perinatal Massage Therapy Workshop - March 16-19\, 2026
DESCRIPTION:
URL:https://www.bodytherapyeducation.com/event/pre-and-perinatal-massage-therapy-workshop-new-york-ny/
LOCATION:Moving Body Resources\, 112 West 27th Street\, New Yourk\, NY\, United States
CATEGORIES:Pre- & Perinatal MT Workshop
ATTACH;FMTTYPE=image/jpeg:https://www.bodytherapyeducation.com/wp-content/uploads/2015/12/D-Lobenstine-current-headshot-e1769279150403.jpg
END:VEVENT
BEGIN:VEVENT
DTSTART;TZID=UTC:20260423T090000
DTEND;TZID=UTC:20260426T180000
DTSTAMP:20260424T002744
CREATED:20250127T005555Z
LAST-MODIFIED:20260320T155453Z
UID:19889-1776934800-1777226400@www.bodytherapyeducation.com
SUMMARY:CANCELLED: Seattle\, WA  Pre- and Perinatal Massage Therapy Workshop - April 23 -26\, 2026
DESCRIPTION:THIS WORKSHOP HAS BEEN CANCELLED\, PLEASE CONSIDER A FUTURE EVENT ON THE CALENDAR \n 
URL:https://www.bodytherapyeducation.com/event/seattle-wa-pre-and-perinatal-mt-workshop-april-23-26-2026/
LOCATION:Bastyr University\, 14500 Juanita Drive N.E.\, Kenmore\, WA\, 98028\, United States
CATEGORIES:Pre- & Perinatal MT Workshop
ATTACH;FMTTYPE=image/jpeg:https://www.bodytherapyeducation.com/wp-content/uploads/2020/03/Michele-K-2020-1-scaled-e1583125665840.jpg
ORGANIZER;CN="Simkin Center":MAILTO:simkincenter@bastyr.edu
END:VEVENT
BEGIN:VEVENT
DTSTART;TZID=UTC:20260430T090000
DTEND;TZID=UTC:20260503T180000
DTSTAMP:20260424T002744
CREATED:20260113T215322Z
LAST-MODIFIED:20260124T182519Z
UID:26490-1777539600-1777831200@www.bodytherapyeducation.com
SUMMARY:Austin\, TX Pre- and Perinatal Massage Therapy Workshop - April 30-May 3\, 2026
DESCRIPTION:  \n 
URL:https://www.bodytherapyeducation.com/event/pre-and-perinatal-massage-therapy-workshop-austin-tx/
LOCATION:Lauterstein-Conway Massage School\, 4701 Burnet Rd\, Austin\, TX\, 78754\, United States
CATEGORIES:Pre- & Perinatal MT Workshop
ATTACH;FMTTYPE=image/jpeg:https://www.bodytherapyeducation.com/wp-content/uploads/2022/02/pam-bio-pic-e1769279107136.jpg
ORGANIZER;CN="Pam Guldi":MAILTO:pamguldi@gmail.com
END:VEVENT
BEGIN:VEVENT
DTSTART;TZID=UTC:20260716T090000
DTEND;TZID=UTC:20260719T180000
DTSTAMP:20260424T002744
CREATED:20260113T220333Z
LAST-MODIFIED:20260124T182050Z
UID:26499-1784192400-1784484000@www.bodytherapyeducation.com
SUMMARY:Lakewood\, CO Pre- and Perinatal Massage Therapy Workshop - July 16-19\, 2026
DESCRIPTION:
URL:https://www.bodytherapyeducation.com/event/pre-and-perinatal-massage-therapy-workshop-lakewood-co/
LOCATION:Colorado School of Healing Arts\, 7655 W Mississippi Ave\, Lakewood\, CO\, 80226\, United States
CATEGORIES:Pre- & Perinatal MT Workshop
ATTACH;FMTTYPE=image/jpeg:https://www.bodytherapyeducation.com/wp-content/uploads/2020/03/Michele-K-2020-2-scaled-e1621985039580.jpg
END:VEVENT
BEGIN:VEVENT
DTSTART;TZID=UTC:20260924T090000
DTEND;TZID=UTC:20260927T180000
DTSTAMP:20260424T002744
CREATED:20260113T221007Z
LAST-MODIFIED:20260124T182427Z
UID:26506-1790240400-1790532000@www.bodytherapyeducation.com
SUMMARY:Portland\, OR Pre- and Perinatal Massage Therapy Workshop - September 24-27\, 2026
DESCRIPTION:  \n 
URL:https://www.bodytherapyeducation.com/event/pre-and-perinatal-massage-therapy-workshop-portland-or/
LOCATION:East West College of the Healing\, 1515 SW Fifth Avenue\, Portland\, OR\, 97201
CATEGORIES:Pre- & Perinatal MT Workshop
ATTACH;FMTTYPE=image/jpeg:https://www.bodytherapyeducation.com/wp-content/uploads/2020/03/Michele-K-2020-2-scaled-e1621985039580.jpg
END:VEVENT
BEGIN:VEVENT
DTSTART;TZID=UTC:20261102T090000
DTEND;TZID=UTC:20261105T180000
DTSTAMP:20260424T002744
CREATED:20260320T155758Z
LAST-MODIFIED:20260320T160120Z
UID:26605-1793610000-1793901600@www.bodytherapyeducation.com
SUMMARY:San Diego\, CA  Pre- and Perinatal Massage Therapy Workshop - November 2-5\, 2026
DESCRIPTION:  \n  \n 
URL:https://www.bodytherapyeducation.com/event/san-diego-ca-pre-and-perinatal-mt-workshop-november-3-6-2025-2/
LOCATION:Marina Village Conferene Center – Coral Room\, 1936 Quivira Way\, San Diego\, CA\, 92109\, United States
ATTACH;FMTTYPE=image/png:https://www.bodytherapyeducation.com/wp-content/uploads/2024/12/Sparrow.MassageRoom.Headshot-scaled.png
END:VEVENT
END:VCALENDAR